Package: flowWorkspaceData Version: 3.23.0 Maintainer: Mike Jiang MaintainerEmail: wjiang2 at fhcrc.org git_url: https://git.bioconductor.org/packages/flowWorkspaceData git_branch: devel git_last_commit: 839dc56 git_last_commit_date: 2025-10-29 09:32:29 -0500 (Wed, 29 Oct 2025)