Package: ffpeExampleData Version: 1.49.0 Command: /home/biocbuild/bbs-3.23-bioc/R/bin/R CMD INSTALL ffpeExampleData StartedAt: 2025-11-06 11:03:05 -0500 (Thu, 06 Nov 2025) EndedAt: 2025-11-06 11:03:34 -0500 (Thu, 06 Nov 2025) EllapsedTime: 28.9 seconds RetCode: 0 Status: OK