Package: ffpeExampleData Version: 1.49.0 Command: /home/biocbuild/bbs-3.23-bioc/R/bin/R CMD build --keep-empty-dirs --no-resave-data ffpeExampleData StartedAt: 2025-11-06 11:17:40 -0500 (Thu, 06 Nov 2025) EndedAt: 2025-11-06 11:17:41 -0500 (Thu, 06 Nov 2025) EllapsedTime: 1.0 seconds RetCode: 0 Status: OK PackageFile: ffpeExampleData_1.49.0.tar.gz PackageFileSize: 6.727 MiB