Package: ffpeExampleData Version: 1.49.0 Maintainer: Levi Waldron MaintainerEmail: lwaldron at hsph.harvard.edu git_url: https://git.bioconductor.org/packages/ffpeExampleData git_branch: devel git_last_commit: eba216e git_last_commit_date: 2025-10-29 09:33:02 -0500 (Wed, 29 Oct 2025)