Package: eoPredData Version: 1.5.0 Command: /home/biocbuild/bbs-3.23-bioc/R/bin/R CMD INSTALL eoPredData StartedAt: 2025-11-20 10:56:57 -0500 (Thu, 20 Nov 2025) EndedAt: 2025-11-20 10:57:10 -0500 (Thu, 20 Nov 2025) EllapsedTime: 12.7 seconds RetCode: 0 Status: OK