Package: easierData Version: 1.17.0 Maintainer: Oscar Lapuente-Santana MaintainerEmail: o.lapuente.santana at tue.nl git_url: https://git.bioconductor.org/packages/easierData git_branch: devel git_last_commit: f034d6f git_last_commit_date: 2025-10-29 10:04:37 -0500 (Wed, 29 Oct 2025)