Package: diffloopdata Version: 1.39.0 Command: /home/biocbuild/bbs-3.23-bioc/R/bin/R CMD build --keep-empty-dirs --no-resave-data diffloopdata StartedAt: 2025-11-04 11:16:33 -0500 (Tue, 04 Nov 2025) EndedAt: 2025-11-04 11:16:44 -0500 (Tue, 04 Nov 2025) EllapsedTime: 11.0 seconds RetCode: 0 Status: OK PackageFile: diffloopdata_1.39.0.tar.gz PackageFileSize: 11.08 MiB