Package: diffloopdata Version: 1.39.0 Maintainer: Caleb Lareau MaintainerEmail: caleblareau at g.harvard.edu git_url: https://git.bioconductor.org/packages/diffloopdata git_branch: devel git_last_commit: 87201a4 git_last_commit_date: 2025-10-29 09:58:25 -0500 (Wed, 29 Oct 2025)