Package: davidTiling Version: 1.51.0 Command: /home/biocbuild/bbs-3.23-bioc/R/bin/R CMD INSTALL davidTiling StartedAt: 2025-11-06 10:57:34 -0500 (Thu, 06 Nov 2025) EndedAt: 2025-11-06 10:58:27 -0500 (Thu, 06 Nov 2025) EllapsedTime: 52.6 seconds RetCode: 0 Status: OK