Package: davidTiling Version: 1.51.0 Command: /home/biocbuild/bbs-3.23-bioc/R/bin/R CMD build --keep-empty-dirs --no-resave-data davidTiling StartedAt: 2025-11-06 11:13:55 -0500 (Thu, 06 Nov 2025) EndedAt: 2025-11-06 11:14:59 -0500 (Thu, 06 Nov 2025) EllapsedTime: 63.7 seconds RetCode: 0 Status: OK PackageFile: davidTiling_1.51.0.tar.gz PackageFileSize: 537.7 MiB