Package: davidTiling Version: 1.51.0 Maintainer: Wolfgang Huber MaintainerEmail: huber at ebi.ac.uk git_url: https://git.bioconductor.org/packages/davidTiling git_branch: devel git_last_commit: e0e8ddc git_last_commit_date: 2025-10-29 09:23:27 -0500 (Wed, 29 Oct 2025)