Package: curatedPCaData Version: 1.7.0 Command: /home/biocbuild/bbs-3.23-bioc/R/bin/R CMD INSTALL curatedPCaData StartedAt: 2025-11-06 10:59:31 -0500 (Thu, 06 Nov 2025) EndedAt: 2025-11-06 11:00:15 -0500 (Thu, 06 Nov 2025) EllapsedTime: 44.3 seconds RetCode: 0 Status: OK