Package: curatedAdipoChIP Version: 1.27.0 Command: /home/biocbuild/bbs-3.23-bioc/R/bin/R CMD INSTALL curatedAdipoChIP StartedAt: 2025-11-27 11:00:35 -0500 (Thu, 27 Nov 2025) EndedAt: 2025-11-27 11:01:00 -0500 (Thu, 27 Nov 2025) EllapsedTime: 25.5 seconds RetCode: 0 Status: OK