Package: curatedAdipoArray Version: 1.23.0 Maintainer: Mahmoud Ahmed MaintainerEmail: mahmoud.s.fahmy at students.kasralainy.edu.eg git_url: https://git.bioconductor.org/packages/curatedAdipoArray git_branch: devel git_last_commit: a9c5b14 git_last_commit_date: 2025-10-29 10:02:11 -0500 (Wed, 29 Oct 2025)