Package: clustifyrdatahub Version: 1.21.0 Command: /home/biocbuild/bbs-3.23-bioc/R/bin/R CMD build --keep-empty-dirs --no-resave-data clustifyrdatahub StartedAt: 2025-11-04 11:12:23 -0500 (Tue, 04 Nov 2025) EndedAt: 2025-11-04 11:13:00 -0500 (Tue, 04 Nov 2025) EllapsedTime: 36.9 seconds RetCode: 0 Status: OK PackageFile: clustifyrdatahub_1.21.0.tar.gz PackageFileSize: 299.9 KiB