Package: clustifyrdatahub Version: 1.21.0 Maintainer: Kent Riemondy MaintainerEmail: kent.riemondy at cuanschutz.edu git_url: https://git.bioconductor.org/packages/clustifyrdatahub git_branch: devel git_last_commit: f92c1bd git_last_commit_date: 2025-10-29 10:02:44 -0500 (Wed, 29 Oct 2025)