Package: chipseqDBData Version: 1.27.0 Command: /home/biocbuild/bbs-3.23-bioc/R/bin/R CMD INSTALL chipseqDBData StartedAt: 2025-11-06 11:00:40 -0500 (Thu, 06 Nov 2025) EndedAt: 2025-11-06 11:00:56 -0500 (Thu, 06 Nov 2025) EllapsedTime: 15.6 seconds RetCode: 0 Status: OK