Package: chipseqDBData Version: 1.27.0 Maintainer: Aaron Lun MaintainerEmail: infinite.monkeys.with.keyboards at gmail.com git_url: https://git.bioconductor.org/packages/chipseqDBData git_branch: devel git_last_commit: a359f93 git_last_commit_date: 2025-10-29 10:01:06 -0500 (Wed, 29 Oct 2025)