Package: cMap2data Version: 1.47.0 Command: /home/biocbuild/bbs-3.23-bioc/R/bin/R CMD build --keep-empty-dirs --no-resave-data cMap2data StartedAt: 2025-11-06 11:10:59 -0500 (Thu, 06 Nov 2025) EndedAt: 2025-11-06 11:11:13 -0500 (Thu, 06 Nov 2025) EllapsedTime: 14.3 seconds RetCode: 0 Status: OK PackageFile: cMap2data_1.47.0.tar.gz PackageFileSize: 27.94 MiB