Package: bsseqData Version: 0.49.0 Command: /home/biocbuild/bbs-3.23-bioc/R/bin/R CMD INSTALL bsseqData StartedAt: 2025-11-06 11:01:06 -0500 (Thu, 06 Nov 2025) EndedAt: 2025-11-06 11:01:56 -0500 (Thu, 06 Nov 2025) EllapsedTime: 49.6 seconds RetCode: 0 Status: OK