Package: bsseqData Version: 0.49.0 Maintainer: Kasper Daniel Hansen MaintainerEmail: khansen at jhsph.edu git_url: https://git.bioconductor.org/packages/bsseqData git_branch: devel git_last_commit: 8483790 git_last_commit_date: 2025-10-29 09:33:17 -0500 (Wed, 29 Oct 2025)