Package: blimaTestingData Version: 1.31.0 Command: /home/biocbuild/bbs-3.23-bioc/R/bin/R CMD INSTALL blimaTestingData StartedAt: 2025-11-06 10:55:23 -0500 (Thu, 06 Nov 2025) EndedAt: 2025-11-06 10:55:24 -0500 (Thu, 06 Nov 2025) EllapsedTime: 1.4 seconds RetCode: 0 Status: OK