Package: blimaTestingData Version: 1.31.0 Command: /home/biocbuild/bbs-3.23-bioc/R/bin/R CMD build --keep-empty-dirs --no-resave-data blimaTestingData StartedAt: 2025-11-06 11:08:05 -0500 (Thu, 06 Nov 2025) EndedAt: 2025-11-06 11:08:45 -0500 (Thu, 06 Nov 2025) EllapsedTime: 40.2 seconds RetCode: 0 Status: OK PackageFile: blimaTestingData_1.31.0.tar.gz PackageFileSize: 98.28 MiB