Package: blimaTestingData Version: 1.31.0 Maintainer: Vojtech Kulvait MaintainerEmail: kulvait at gmail.com git_url: https://git.bioconductor.org/packages/blimaTestingData git_branch: devel git_last_commit: 2efea5a git_last_commit_date: 2025-10-29 09:55:05 -0500 (Wed, 29 Oct 2025)