Package: bladderbatch Version: 1.49.0 Command: /home/biocbuild/bbs-3.23-bioc/R/bin/R CMD INSTALL bladderbatch StartedAt: 2025-11-06 10:56:11 -0500 (Thu, 06 Nov 2025) EndedAt: 2025-11-06 10:56:13 -0500 (Thu, 06 Nov 2025) EllapsedTime: 2.1 seconds RetCode: 0 Status: OK