Package: bladderbatch Version: 1.49.0 Maintainer: Jeffrey T. Leek MaintainerEmail: jleek at jhsph.edu git_url: https://git.bioconductor.org/packages/bladderbatch git_branch: devel git_last_commit: 70cd621 git_last_commit_date: 2025-10-29 09:32:44 -0500 (Wed, 29 Oct 2025)