Package: biscuiteerData Version: 1.25.0 Command: /home/biocbuild/bbs-3.23-bioc/R/bin/R CMD INSTALL biscuiteerData StartedAt: 2025-11-25 10:58:02 -0500 (Tue, 25 Nov 2025) EndedAt: 2025-11-25 10:58:20 -0500 (Tue, 25 Nov 2025) EllapsedTime: 17.9 seconds RetCode: 0 Status: OK