Package: beadarrayExampleData Version: 1.49.0 Command: /home/biocbuild/bbs-3.23-bioc/R/bin/R CMD INSTALL beadarrayExampleData StartedAt: 2025-11-04 10:58:13 -0500 (Tue, 04 Nov 2025) EndedAt: 2025-11-04 10:58:24 -0500 (Tue, 04 Nov 2025) EllapsedTime: 11.1 seconds RetCode: 0 Status: OK