Package: beadarrayExampleData Version: 1.49.0 Command: /home/biocbuild/bbs-3.23-bioc/R/bin/R CMD check --install=check:beadarrayExampleData.install-out.txt --library=/home/biocbuild/bbs-3.23-bioc/R/site-library --timings beadarrayExampleData_1.49.0.tar.gz StartedAt: 2025-11-06 12:01:39 -0500 (Thu, 06 Nov 2025) EndedAt: 2025-11-06 12:03:13 -0500 (Thu, 06 Nov 2025) EllapsedTime: 93.9 seconds RetCode: 0 Status: OK CheckDir: beadarrayExampleData.Rcheck Warnings: 0