Package: beadarrayExampleData Version: 1.49.0 Command: /home/biocbuild/bbs-3.23-bioc/R/bin/R CMD build --keep-empty-dirs --no-resave-data beadarrayExampleData StartedAt: 2025-11-04 11:07:57 -0500 (Tue, 04 Nov 2025) EndedAt: 2025-11-04 11:08:24 -0500 (Tue, 04 Nov 2025) EllapsedTime: 26.7 seconds RetCode: 0 Status: OK PackageFile: beadarrayExampleData_1.49.0.tar.gz PackageFileSize: 29.96 MiB