Package: beadarrayExampleData Version: 1.49.0 Maintainer: Mark Dunning MaintainerEmail: Mark.Dunning at cancer.org.uk git_url: https://git.bioconductor.org/packages/beadarrayExampleData git_branch: devel git_last_commit: 5a109c5 git_last_commit_date: 2025-10-29 09:32:48 -0500 (Wed, 29 Oct 2025)