Package: TimerQuant Version: 1.41.0 Command: /home/biocbuild/bbs-3.23-bioc/R/bin/R CMD build --keep-empty-dirs --no-resave-data TimerQuant StartedAt: 2025-11-06 11:46:16 -0500 (Thu, 06 Nov 2025) EndedAt: 2025-11-06 11:46:27 -0500 (Thu, 06 Nov 2025) EllapsedTime: 10.9 seconds RetCode: 1 Status: ERROR PackageFile: None PackageFileSize: NA