Package: TargetScoreData Version: 1.47.0 Command: /home/biocbuild/bbs-3.23-bioc/R/bin/R CMD build --keep-empty-dirs --no-resave-data TargetScoreData StartedAt: 2025-11-06 11:44:02 -0500 (Thu, 06 Nov 2025) EndedAt: 2025-11-06 11:44:37 -0500 (Thu, 06 Nov 2025) EllapsedTime: 34.6 seconds RetCode: 0 Status: OK PackageFile: TargetScoreData_1.47.0.tar.gz PackageFileSize: 206.2 MiB