Package: TargetScoreData Version: 1.47.0 Maintainer: Yue Li MaintainerEmail: yueli at cs.toronto.edu git_url: https://git.bioconductor.org/packages/TargetScoreData git_branch: devel git_last_commit: 34207eb git_last_commit_date: 2025-10-29 09:53:48 -0500 (Wed, 29 Oct 2025)