Package: TENxXeniumData Version: 1.7.0 Maintainer: Matineh Rahmatbakhsh MaintainerEmail: matinerb.94 at gmail.com git_url: https://git.bioconductor.org/packages/TENxXeniumData git_branch: devel git_last_commit: c9f5f11 git_last_commit_date: 2025-10-29 10:06:11 -0500 (Wed, 29 Oct 2025)