Package: TCGAcrcmiRNA Version: 1.31.0 Command: /home/biocbuild/bbs-3.23-bioc/R/bin/R CMD INSTALL TCGAcrcmiRNA StartedAt: 2025-11-06 10:56:10 -0500 (Thu, 06 Nov 2025) EndedAt: 2025-11-06 10:56:14 -0500 (Thu, 06 Nov 2025) EllapsedTime: 3.4 seconds RetCode: 0 Status: OK