Package: TCGAWorkflowData Version: 1.35.0 Command: /home/biocbuild/bbs-3.23-bioc/R/bin/R CMD INSTALL TCGAWorkflowData StartedAt: 2025-11-06 11:03:53 -0500 (Thu, 06 Nov 2025) EndedAt: 2025-11-06 11:04:54 -0500 (Thu, 06 Nov 2025) EllapsedTime: 60.9 seconds RetCode: 0 Status: OK