Package: TCGAWorkflowData Version: 1.35.0 Maintainer: Tiago Chedraoui Silva MaintainerEmail: tiagochst at gmail.com git_url: https://git.bioconductor.org/packages/TCGAWorkflowData git_branch: devel git_last_commit: 3c83ff0 git_last_commit_date: 2025-10-29 09:59:19 -0500 (Wed, 29 Oct 2025)