Package: SubcellularSpatialData Version: 1.7.0 Maintainer: Dharmesh D. Bhuva MaintainerEmail: dharmesh.bhuva at adelaide.edu.au git_url: https://git.bioconductor.org/packages/SubcellularSpatialData git_branch: devel git_last_commit: 7a88847 git_last_commit_date: 2025-10-29 10:06:13 -0500 (Wed, 29 Oct 2025)