Package: SpikeInSubset Version: 1.51.0 Maintainer: Robert D Shear MaintainerEmail: rshear at ds.dfci.harvard.edu git_url: https://git.bioconductor.org/packages/SpikeInSubset git_branch: devel git_last_commit: f815c90 git_last_commit_date: 2025-10-29 09:30:39 -0500 (Wed, 29 Oct 2025)