Package: SpikeIn Version: 1.53.0 Command: /home/biocbuild/bbs-3.23-bioc/R/bin/R CMD INSTALL SpikeIn StartedAt: 2025-11-20 10:56:15 -0500 (Thu, 20 Nov 2025) EndedAt: 2025-11-20 10:56:24 -0500 (Thu, 20 Nov 2025) EllapsedTime: 8.7 seconds RetCode: 0 Status: OK