Package: SingleCellMultiModal Version: 1.23.0 Command: /home/biocbuild/bbs-3.23-bioc/R/bin/R CMD INSTALL SingleCellMultiModal StartedAt: 2025-11-06 10:59:07 -0500 (Thu, 06 Nov 2025) EndedAt: 2025-11-06 10:59:38 -0500 (Thu, 06 Nov 2025) EllapsedTime: 31.6 seconds RetCode: 0 Status: OK