Package: SingleCellMultiModal Version: 1.23.0 Command: /home/biocbuild/bbs-3.23-bioc/R/bin/R CMD build --keep-empty-dirs --no-resave-data SingleCellMultiModal StartedAt: 2025-11-06 11:42:25 -0500 (Thu, 06 Nov 2025) EndedAt: 2025-11-06 11:48:27 -0500 (Thu, 06 Nov 2025) EllapsedTime: 362.4 seconds RetCode: 0 Status: OK PackageFile: SingleCellMultiModal_1.23.0.tar.gz PackageFileSize: 2.894 MiB