Package: Single.mTEC.Transcriptomes Version: 1.39.0 Command: /home/biocbuild/bbs-3.23-bioc/R/bin/R CMD INSTALL Single.mTEC.Transcriptomes StartedAt: 2025-11-06 10:55:47 -0500 (Thu, 06 Nov 2025) EndedAt: 2025-11-06 10:55:57 -0500 (Thu, 06 Nov 2025) EllapsedTime: 9.4 seconds RetCode: 0 Status: OK