Package: SimBenchData Version: 1.19.0 Command: /home/biocbuild/bbs-3.23-bioc/R/bin/R CMD build --keep-empty-dirs --no-resave-data SimBenchData StartedAt: 2025-11-06 11:42:10 -0500 (Thu, 06 Nov 2025) EndedAt: 2025-11-06 11:42:31 -0500 (Thu, 06 Nov 2025) EllapsedTime: 20.9 seconds RetCode: 0 Status: OK PackageFile: SimBenchData_1.19.0.tar.gz PackageFileSize: 236 KiB