Package: STexampleData Version: 1.19.0 Maintainer: Lukas M. Weber MaintainerEmail: lmweb012 at gmail.com git_url: https://git.bioconductor.org/packages/STexampleData git_branch: devel git_last_commit: 0745bbd git_last_commit_date: 2025-10-29 10:03:55 -0500 (Wed, 29 Oct 2025)