Package: RnaSeqSampleSizeData Version: 1.43.0 Command: /home/biocbuild/bbs-3.23-bioc/R/bin/R CMD INSTALL RnaSeqSampleSizeData StartedAt: 2025-11-27 10:56:35 -0500 (Thu, 27 Nov 2025) EndedAt: 2025-11-27 10:56:38 -0500 (Thu, 27 Nov 2025) EllapsedTime: 2.3 seconds RetCode: 0 Status: OK