Package: RegParallel Version: 1.29.0 Command: /home/biocbuild/bbs-3.23-bioc/R/bin/R CMD build --keep-empty-dirs --no-resave-data RegParallel StartedAt: 2025-11-06 11:37:20 -0500 (Thu, 06 Nov 2025) EndedAt: 2025-11-06 11:44:02 -0500 (Thu, 06 Nov 2025) EllapsedTime: 402.6 seconds RetCode: 0 Status: OK PackageFile: RegParallel_1.29.0.tar.gz PackageFileSize: 643.7 KiB