Package: RegParallel Version: 1.29.0 Maintainer: Kevin Blighe MaintainerEmail: kevin at clinicalbioinformatics.co.uk git_url: https://git.bioconductor.org/packages/RegParallel git_branch: devel git_last_commit: 151111c git_last_commit_date: 2025-10-29 10:00:53 -0500 (Wed, 29 Oct 2025)