Package: ReactomeGSA.data Version: 1.25.0 Command: /home/biocbuild/bbs-3.23-bioc/R/bin/R CMD build --keep-empty-dirs --no-resave-data ReactomeGSA.data StartedAt: 2025-11-06 11:37:16 -0500 (Thu, 06 Nov 2025) EndedAt: 2025-11-06 11:38:38 -0500 (Thu, 06 Nov 2025) EllapsedTime: 82.1 seconds RetCode: 0 Status: OK PackageFile: ReactomeGSA.data_1.25.0.tar.gz PackageFileSize: 23.08 MiB